BEGIN:VCALENDAR
VERSION:2.0
PRODID:-//DILEMA INDIE CLUB - ECPv6.0.5//NONSGML v1.0//EN
CALSCALE:GREGORIAN
METHOD:PUBLISH
X-ORIGINAL-URL:https://dilemaindieclub.es
X-WR-CALDESC:Eventos para DILEMA INDIE CLUB
REFRESH-INTERVAL;VALUE=DURATION:PT1H
X-Robots-Tag:noindex
X-PUBLISHED-TTL:PT1H
BEGIN:VTIMEZONE
TZID:Europe/Madrid
BEGIN:DAYLIGHT
TZOFFSETFROM:+0100
TZOFFSETTO:+0200
TZNAME:CEST
DTSTART:20220327T010000
END:DAYLIGHT
BEGIN:STANDARD
TZOFFSETFROM:+0200
TZOFFSETTO:+0100
TZNAME:CET
DTSTART:20221030T010000
END:STANDARD
END:VTIMEZONE
BEGIN:VEVENT
DTSTART;TZID=Europe/Madrid:20220728T203000
DTEND;TZID=Europe/Madrid:20220728T213000
DTSTAMP:20260424T180458
CREATED:20220726T165119Z
LAST-MODIFIED:20220728T091016Z
UID:10000032-1659040200-1659043800@dilemaindieclub.es
SUMMARY:Encuentro: Cine Asturiano. Miradas desde la periferia
DESCRIPTION:¿Cómo se relaciona el cine con el espacio geográfico y con la identidad del territorio? ¿Podemos hablar\, a día de hoy\, de la existencia de un cine asturiano? ¿Qué características lo definen? ¿Cuáles son sus retos? En el encuentro ‘Cine Asturiano. Miradas desde la Periferia’  conoceremos la obra de algunos de los realizadores más relevantes del panorama audiovisual asturiano y trataremos de dar respuesta a las mencionadas cuestiones. Participan: \n\nRamón Lluis Bande: Es cineasta\, poeta\, narrador y autor teatral. Es uno de los principales nombres de la no ficción española\, junto a cineastas como Guerín\, Lacuesta o Jordà. Ha dirigido clips musicales para Nacho Vegas\, Manta Ray\, Mus\, Viva las Vegas o Aroah\, entre otros. Su filmografía incluye las siguientes películas: Vaca mugiendo entre ruinas (2020)\, Hotel Asturies (2019)\, Cantares de una revolución (2018)\, Escoréu\, 24 d’Avientu de 1937 (2017)\, Aun me quedan balas para dibujar (curt\, 2017)\, Vida vaquera (2016)\, El nome de los árboles (2016)\, Equí y n’otru tiempu (2014)\, Llar (2014)\, Sangre (2010)\, La carta de Bárbara (2007)\, El Paisano: un retrato colectivo (2005)\, Divina lluz (2003)\, El fulgor (2002).\n\n  \n\nTito Montero: Cineasta\, escritor y periodista. Dirigió la primera serie web de la televisión pública asturiana (TPA)\, Regreso a la aldea perdida (2018)\, producida por Ramón Lluís Bande. De ese mismo proyecto nació su largometraje El pasado presente (2018) –FICX\, Cinespaña Toulouse–. Ha realizado varias películas cortas. Las más recientes\, Los ladrillos (2020) y Un fantasma recorre […] (2019)\, han podido verse en las secciones oficiales del FICX\, Vila do Conde\, Málaga\, D’A o Alcances. Tiene tres libros publicados: La estrategia del roble (2022)\, Charlize Theron y las democracias ardientes (2013) y 10 Corsarios (2012). Además\, creó y dirigió el espacio específico que RPA dedicó al cine\, La pantalla mecánica.\n\n  \n\nJuan Luis Ruiz: Diplomado por el Centro de Estudios Cinematográficos de Cataluña en Dirección de Fotografía. Su trabajo como Director de Fotografía en el documental La presa de Jorge Rivero ha sido reconocido con el Premio Dirección de Fotografía del Festival de Cine Agon de Atenas 2010\, en el Van Fest Italia 2009 y el Festival Con-Can de Tokio 2010. Ha recibido\, además\, el Premio al documental Lluvina (2002)\, codirigido con Lucía Herrera\, en el Festival de Cine Asturiano 2006 y el Premio AEC Asociación Española de Autores de Fotografía Cinematográfica\, entre otros reconocimientos. Sus últimas películas son Esconderite (2021)\, Obertura de un milagro (2019)\, Negrea (2016)\, L’Escaezu (2008) y Medrana (2004).\n\n  \nAl finalizar el encuentro\, comenzará el Dj Set de OSO: Fuerza\, baile\, alegría y tropijaleo. En su sesión\, Nos traerá ritmos de cumbia con aderezos de hip-hop\, electrónica y sonidos nativos. ?
URL:https://dilemaindieclub.es/evento/encuentro-cine-asturiano-miradas-desde-la-periferia/
LOCATION:DILEMA Indie Club\, Calle Capua\, 6\, Gijón\, Asturias\, 33202\, España
CATEGORIES:Encuentros
ATTACH;FMTTYPE=image/jpeg:https://dilemaindieclub.es/wp-content/uploads/2022/07/CINE-ASTURIANO1-scaled.jpg
END:VEVENT
END:VCALENDAR