BEGIN:VCALENDAR
VERSION:2.0
PRODID:-//DILEMA INDIE CLUB - ECPv6.0.5//NONSGML v1.0//EN
CALSCALE:GREGORIAN
METHOD:PUBLISH
X-WR-CALNAME:DILEMA INDIE CLUB
X-ORIGINAL-URL:https://dilemaindieclub.es
X-WR-CALDESC:Eventos para DILEMA INDIE CLUB
REFRESH-INTERVAL;VALUE=DURATION:PT1H
X-Robots-Tag:noindex
X-PUBLISHED-TTL:PT1H
BEGIN:VTIMEZONE
TZID:Europe/Madrid
BEGIN:DAYLIGHT
TZOFFSETFROM:+0100
TZOFFSETTO:+0200
TZNAME:CEST
DTSTART:20220327T010000
END:DAYLIGHT
BEGIN:STANDARD
TZOFFSETFROM:+0200
TZOFFSETTO:+0100
TZNAME:CET
DTSTART:20221030T010000
END:STANDARD
END:VTIMEZONE
BEGIN:VEVENT
DTSTART;TZID=Europe/Madrid:20220922T203000
DTEND;TZID=Europe/Madrid:20220923T043000
DTSTAMP:20260423T133849
CREATED:20220704T205116Z
LAST-MODIFIED:20220921T173821Z
UID:10000028-1663878600-1663907400@dilemaindieclub.es
SUMMARY:Jueves de Yayos
DESCRIPTION:Este jueves vuelven los yayos al Dilema 🙂 \nVen a disfrutar del cóctel castizo por excelencia al salir del trabajo o de la playa. Un brebaje ideado en el emblemático Casa Camacho de Malasaña\, que fusiona vermut\, ginebra y soda\, con hielo y limón ??? 3€ \nOs esperamos de 20.00h a 04.30h
URL:https://dilemaindieclub.es/evento/jueves-de-yayos/2022-09-22/
LOCATION:DILEMA Indie Club\, Calle Capua\, 6\, Gijón\, Asturias\, 33202\, España
CATEGORIES:Fiestas
ATTACH;FMTTYPE=image/png:https://dilemaindieclub.es/wp-content/uploads/2022/07/yayos-dilema.png
END:VEVENT
BEGIN:VEVENT
DTSTART;TZID=Europe/Madrid:20220923T220000
DTEND;TZID=Europe/Madrid:20220923T220000
DTSTAMP:20260423T133849
CREATED:20220608T123740Z
LAST-MODIFIED:20220921T182510Z
UID:10000027-1663970400-1663970400@dilemaindieclub.es
SUMMARY:Juego de los discos
DESCRIPTION:Un clásico ya del Dilema: el juego de los discos. \nLa dinámica es fácil. Al pedir tu consumición recibirás una tarjeta con la portada de un disco. Si encuentras a otra persona en el bar con la misma portada os invitamos a ambos a un chupito ? \n¡Todxs a hacer amigxs!
URL:https://dilemaindieclub.es/evento/juego-de-los-discos/
LOCATION:DILEMA Indie Club\, Calle Capua\, 6\, Gijón\, Asturias\, 33202\, España
CATEGORIES:Fiestas
ATTACH;FMTTYPE=image/jpeg:https://dilemaindieclub.es/wp-content/uploads/2022/06/JUEGO-DE-LOS-DISCOS.jpg
END:VEVENT
BEGIN:VEVENT
DTSTART;TZID=Europe/Madrid:20220929T203000
DTEND;TZID=Europe/Madrid:20220930T043000
DTSTAMP:20260423T133849
CREATED:20220704T205116Z
LAST-MODIFIED:20220921T173821Z
UID:10000029-1664483400-1664512200@dilemaindieclub.es
SUMMARY:Jueves de Yayos
DESCRIPTION:Este jueves vuelven los yayos al Dilema 🙂 \nVen a disfrutar del cóctel castizo por excelencia al salir del trabajo o de la playa. Un brebaje ideado en el emblemático Casa Camacho de Malasaña\, que fusiona vermut\, ginebra y soda\, con hielo y limón ??? 3€ \nOs esperamos de 20.00h a 04.30h
URL:https://dilemaindieclub.es/evento/jueves-de-yayos/2022-09-29/
LOCATION:DILEMA Indie Club\, Calle Capua\, 6\, Gijón\, Asturias\, 33202\, España
CATEGORIES:Fiestas
ATTACH;FMTTYPE=image/png:https://dilemaindieclub.es/wp-content/uploads/2022/07/yayos-dilema.png
END:VEVENT
END:VCALENDAR