BEGIN:VCALENDAR
VERSION:2.0
PRODID:-//DILEMA INDIE CLUB - ECPv6.0.5//NONSGML v1.0//EN
CALSCALE:GREGORIAN
METHOD:PUBLISH
X-WR-CALNAME:DILEMA INDIE CLUB
X-ORIGINAL-URL:https://dilemaindieclub.es
X-WR-CALDESC:Eventos para DILEMA INDIE CLUB
REFRESH-INTERVAL;VALUE=DURATION:PT1H
X-Robots-Tag:noindex
X-PUBLISHED-TTL:PT1H
BEGIN:VTIMEZONE
TZID:Europe/Madrid
BEGIN:DAYLIGHT
TZOFFSETFROM:+0100
TZOFFSETTO:+0200
TZNAME:CEST
DTSTART:20230326T010000
END:DAYLIGHT
BEGIN:STANDARD
TZOFFSETFROM:+0200
TZOFFSETTO:+0100
TZNAME:CET
DTSTART:20231029T010000
END:STANDARD
END:VTIMEZONE
BEGIN:VEVENT
DTSTART;TZID=Europe/Madrid:20230101T010000
DTEND;TZID=Europe/Madrid:20230101T060000
DTSTAMP:20260423T081107
CREATED:20221205T172838Z
LAST-MODIFIED:20221216T133950Z
UID:10000020-1672534800-1672552800@dilemaindieclub.es
SUMMARY:Fiesta de Nochevieja
DESCRIPTION:¡Este año celebramos nuestra primera nochevieja juntos! Te esperamos para recibir el nuevo año con el mejor ambiente y con la mejor música (indie\, pop\, rock\, urban y electrónica). \nEl aforo es limitado. No te pierdas una de las mejores noches del año y consigue ya tu entrada. \nLa entrada incluye: \n\nAcceso garantizado\n1 consumición\nCotillón\nSeguridad\n\nDresscode: Ven como quieras\, en zapatillas\, con corbata\, con sombrero\, con los pantalones rotos o con tus mejores galas… y prepárate para pasártelo como nunca. \nAcceso para mayores de 18 años.
URL:https://dilemaindieclub.es/evento/fiesta-de-nochevieja/
LOCATION:DILEMA Indie Club\, Calle Capua\, 6\, Gijón\, Asturias\, 33202\, España
CATEGORIES:Fiestas
ATTACH;FMTTYPE=image/png:https://dilemaindieclub.es/wp-content/uploads/2022/12/FIESTA-DE-NOCHEVIEJA.png
END:VEVENT
BEGIN:VEVENT
DTSTART;TZID=Europe/Madrid:20230128T080000
DTEND;TZID=Europe/Madrid:20230128T170000
DTSTAMP:20260423T081107
CREATED:20230124T133446Z
LAST-MODIFIED:20240223T133713Z
UID:10000158-1674892800-1674925200@dilemaindieclub.es
SUMMARY:Bendito Sábado
DESCRIPTION:La fiesta del sábado en DILEMA Indie Club. Música indie\, pop\, rock\, urban y electrónica. Una mezcla ecléctica sin complejos con el único objetivo de hacerte bailar hasta que no puedas más. \nDj Set a cargo de Lucía Dilema. \nDesde las 23h a las 5.30h.
URL:https://dilemaindieclub.es/evento/bendito-sabado/2023-01-28/
LOCATION:DILEMA Indie Club\, Calle Capua\, 6\, Gijón\, Asturias\, 33202\, España
CATEGORIES:Fiestas
ATTACH;FMTTYPE=image/png:https://dilemaindieclub.es/wp-content/uploads/2023/01/bendito-sabado_Mesa-de-trabajo-1.png
END:VEVENT
BEGIN:VEVENT
DTSTART;TZID=Europe/Madrid:20230128T230000
DTEND;TZID=Europe/Madrid:20230129T053000
DTSTAMP:20260423T081107
CREATED:20230124T133446Z
LAST-MODIFIED:20240223T133713Z
UID:10000043-1674946800-1674970200@dilemaindieclub.es
SUMMARY:Bendito Sábado
DESCRIPTION:La fiesta del sábado en DILEMA Indie Club. Música indie\, pop\, rock\, urban y electrónica. Una mezcla ecléctica sin complejos con el único objetivo de hacerte bailar hasta que no puedas más. \nDj Set a cargo de Lucía Dilema. \nDesde las 23h a las 5.30h.
URL:https://dilemaindieclub.es/evento/bendito-sabado/2023-01-28/
LOCATION:DILEMA Indie Club\, Calle Capua\, 6\, Gijón\, Asturias\, 33202\, España
CATEGORIES:Fiestas
ATTACH;FMTTYPE=image/png:https://dilemaindieclub.es/wp-content/uploads/2023/01/bendito-sabado_Mesa-de-trabajo-1.png
END:VEVENT
END:VCALENDAR