BEGIN:VCALENDAR
VERSION:2.0
PRODID:-//DILEMA INDIE CLUB - ECPv6.0.5//NONSGML v1.0//EN
CALSCALE:GREGORIAN
METHOD:PUBLISH
X-WR-CALNAME:DILEMA INDIE CLUB
X-ORIGINAL-URL:https://dilemaindieclub.es
X-WR-CALDESC:Eventos para DILEMA INDIE CLUB
REFRESH-INTERVAL;VALUE=DURATION:PT1H
X-Robots-Tag:noindex
X-PUBLISHED-TTL:PT1H
BEGIN:VTIMEZONE
TZID:Europe/Madrid
BEGIN:DAYLIGHT
TZOFFSETFROM:+0100
TZOFFSETTO:+0200
TZNAME:CEST
DTSTART:20220327T010000
END:DAYLIGHT
BEGIN:STANDARD
TZOFFSETFROM:+0200
TZOFFSETTO:+0100
TZNAME:CET
DTSTART:20221030T010000
END:STANDARD
END:VTIMEZONE
BEGIN:VEVENT
DTSTART;TZID=Europe/Madrid:20220507T230000
DTEND;TZID=Europe/Madrid:20220507T230000
DTSTAMP:20260423T212208
CREATED:20220407T142552Z
LAST-MODIFIED:20220421T163719Z
UID:10000012-1651964400-1651964400@dilemaindieclub.es
SUMMARY:CortoGijón Closing Party
DESCRIPTION:Fiesta de clausura del 8ª edición del Festival de CortoGijón. \n23.00h – Copa de Prosecco y Cocktail de Bienvenida \n00-00h – DJ Pícaro. DJ habitual de la noche alternativa ovetense (La Salvaje\, Supernova…)
URL:https://dilemaindieclub.es/evento/cortogijon-closing-party/
LOCATION:Asturias
CATEGORIES:Fiestas
END:VEVENT
END:VCALENDAR