BEGIN:VCALENDAR
VERSION:2.0
PRODID:-//DILEMA INDIE CLUB - ECPv6.0.5//NONSGML v1.0//EN
CALSCALE:GREGORIAN
METHOD:PUBLISH
X-ORIGINAL-URL:https://dilemaindieclub.es
X-WR-CALDESC:Eventos para DILEMA INDIE CLUB
REFRESH-INTERVAL;VALUE=DURATION:PT1H
X-Robots-Tag:noindex
X-PUBLISHED-TTL:PT1H
BEGIN:VTIMEZONE
TZID:Europe/Madrid
BEGIN:DAYLIGHT
TZOFFSETFROM:+0100
TZOFFSETTO:+0200
TZNAME:CEST
DTSTART:20220327T010000
END:DAYLIGHT
BEGIN:STANDARD
TZOFFSETFROM:+0200
TZOFFSETTO:+0100
TZNAME:CET
DTSTART:20221030T010000
END:STANDARD
END:VTIMEZONE
BEGIN:VEVENT
DTSTART;TZID=Europe/Madrid:20220623T235900
DTEND;TZID=Europe/Madrid:20220623T235900
DTSTAMP:20260423T195547
CREATED:20220608T112728Z
LAST-MODIFIED:20220608T141834Z
UID:10000025-1656028740-1656028740@dilemaindieclub.es
SUMMARY:Noche de la hoguera
DESCRIPTION:Después de dos años vuelve La Hoguera de San Juan a Gijón. La noche comienza en la playa (eso lo sabemos todos) pero después… tienes dos opciones: quedarte a ver a la Orquesta Panorama o venirte al Dilema a echar unos bailes y a hacer amigos.
URL:https://dilemaindieclub.es/evento/la-hoguera/
LOCATION:DILEMA Indie Club\, Calle Capua\, 6\, Gijón\, Asturias\, 33202\, España
CATEGORIES:Fiestas
END:VEVENT
END:VCALENDAR