BEGIN:VCALENDAR
VERSION:2.0
PRODID:-//DILEMA INDIE CLUB - ECPv6.0.5//NONSGML v1.0//EN
CALSCALE:GREGORIAN
METHOD:PUBLISH
X-ORIGINAL-URL:https://dilemaindieclub.es
X-WR-CALDESC:Eventos para DILEMA INDIE CLUB
REFRESH-INTERVAL;VALUE=DURATION:PT1H
X-Robots-Tag:noindex
X-PUBLISHED-TTL:PT1H
BEGIN:VTIMEZONE
TZID:Europe/Madrid
BEGIN:DAYLIGHT
TZOFFSETFROM:+0100
TZOFFSETTO:+0200
TZNAME:CEST
DTSTART:20230326T010000
END:DAYLIGHT
BEGIN:STANDARD
TZOFFSETFROM:+0200
TZOFFSETTO:+0100
TZNAME:CET
DTSTART:20231029T010000
END:STANDARD
END:VTIMEZONE
BEGIN:VEVENT
DTSTART;TZID=Europe/Madrid:20230220T230000
DTEND;TZID=Europe/Madrid:20230221T053000
DTSTAMP:20260423T081351
CREATED:20230215T120803Z
LAST-MODIFIED:20230215T120803Z
UID:10000155-1676934000-1676957400@dilemaindieclub.es
SUMMARY:Lunes de Antroxu y Concurso de disfraces
DESCRIPTION:Este año volvemos a celebrar el Antroxu con nuestro habitual concurso de disfraces. Los premiados se llevarán una cena en La Divina Commedia y una botella de Prosecco. Si quieres participar envíanos un mail a info@dilemaindieclub.es \nDespués bailamos hasta el amanecer con el dj set de Lucía Dilema. \n  \n 
URL:https://dilemaindieclub.es/evento/lunes-de-antroxu-y-concurso-de-disfraces/
LOCATION:DILEMA Indie Club\, Calle Capua\, 6\, Gijón\, Asturias\, 33202\, España
CATEGORIES:Fiestas
ATTACH;FMTTYPE=image/png:https://dilemaindieclub.es/wp-content/uploads/2023/02/ANTROXU-GIJON-CARNAVAL_Mesa-de-trabajo-1.png
END:VEVENT
END:VCALENDAR