BEGIN:VCALENDAR
VERSION:2.0
PRODID:-//DILEMA INDIE CLUB - ECPv6.0.5//NONSGML v1.0//EN
CALSCALE:GREGORIAN
METHOD:PUBLISH
X-WR-CALNAME:DILEMA INDIE CLUB
X-ORIGINAL-URL:https://dilemaindieclub.es
X-WR-CALDESC:Eventos para DILEMA INDIE CLUB
REFRESH-INTERVAL;VALUE=DURATION:PT1H
X-Robots-Tag:noindex
X-PUBLISHED-TTL:PT1H
BEGIN:VTIMEZONE
TZID:Europe/Madrid
BEGIN:DAYLIGHT
TZOFFSETFROM:+0100
TZOFFSETTO:+0200
TZNAME:CEST
DTSTART:20220327T010000
END:DAYLIGHT
BEGIN:STANDARD
TZOFFSETFROM:+0200
TZOFFSETTO:+0100
TZNAME:CET
DTSTART:20221030T010000
END:STANDARD
TZID:UTC
BEGIN:STANDARD
TZOFFSETFROM:+0000
TZOFFSETTO:+0000
TZNAME:UTC
DTSTART:20220101T000000
END:STANDARD
END:VTIMEZONE
BEGIN:VEVENT
DTSTART;TZID=Europe/Madrid:20220521T220000
DTEND;TZID=Europe/Madrid:20220521T220000
DTSTAMP:20260422T164536
CREATED:20220407T141435Z
LAST-MODIFIED:20220429T103329Z
UID:10000002-1653170400-1653170400@dilemaindieclub.es
SUMMARY:Los Volvone
DESCRIPTION:Volvone es una banda de astur-garaje-rock que pretende rendir tributo a la ciudad que habita\, a sus paisajes y a sus paisanajes. Un sunido crudo y letras irónicas salidas de lo más profundo de un Polígono Industrial\, intentarán destrozarte los tímpanos mientras descifras sus sarcásticas letras. Precaución no se acerquen demasiado al escenario….
URL:https://dilemaindieclub.es/evento/los-volvone/
LOCATION:DILEMA Indie Club\, Calle Capua\, 6\, Gijón\, Asturias\, 33202\, España
CATEGORIES:Conciertos
ATTACH;FMTTYPE=image/jpeg:https://dilemaindieclub.es/wp-content/uploads/2022/04/Volvone.jpg
END:VEVENT
BEGIN:VEVENT
DTSTART;TZID=Europe/Madrid:20220514T233000
DTEND;TZID=Europe/Madrid:20220514T233000
DTSTAMP:20260422T164536
CREATED:20220407T113636Z
LAST-MODIFIED:20220427T163633Z
UID:10000003-1652571000-1652571000@dilemaindieclub.es
SUMMARY:Eurovision Night
DESCRIPTION:¿Dará la sorpresa Chanel en Turín? ¿Volverá a ganar Italia con Brividi? Independientemente de los resultados\, en DILEMA Indie Club celebraremos nuestra particular fiesta eurovisiva. En el repertorio de la noche sonarán algunos de los grandes clásicos del festival de la canción: Euphoria\, Waterloo\, La La La\,  Arcade…
URL:https://dilemaindieclub.es/evento/eurovision-night/
LOCATION:DILEMA Indie Club\, Calle Capua\, 6\, Gijón\, Asturias\, 33202\, España
CATEGORIES:Fiestas
ATTACH;FMTTYPE=image/jpeg:https://dilemaindieclub.es/wp-content/uploads/2022/04/eurovision-party-spain.jpg
END:VEVENT
BEGIN:VEVENT
DTSTART;TZID=Europe/Madrid:20220513T210000
DTEND;TZID=Europe/Madrid:20220513T233000
DTSTAMP:20260422T164536
CREATED:20220425T231530Z
LAST-MODIFIED:20220425T231835Z
UID:10000015-1652475600-1652484600@dilemaindieclub.es
SUMMARY:Kie
DESCRIPTION:Kie es el alter ego de Guillermo Llaneza\, un joven músico de Oviedo. ‘Don’t take it personal’ es su primer EP.  Entre sus referentes destacan Bon Iver\, Beach House\, Girl in Red o Coldplay.
URL:https://dilemaindieclub.es/evento/kie/
LOCATION:DILEMA Indie Club\, Calle Capua\, 6\, Gijón\, Asturias\, 33202\, España
CATEGORIES:Conciertos
ATTACH;FMTTYPE=image/jpeg:https://dilemaindieclub.es/wp-content/uploads/2022/04/kie-guille-llaneza.jpg
END:VEVENT
BEGIN:VEVENT
DTSTART;TZID=Europe/Madrid:20220506T210000
DTEND;TZID=Europe/Madrid:20220506T223000
DTSTAMP:20260422T164536
CREATED:20220425T210911Z
LAST-MODIFIED:20220504T113559Z
UID:10000013-1651870800-1651876200@dilemaindieclub.es
SUMMARY:D-Guero
DESCRIPTION:D-Guero es un joven músico de Candás que explora desde hace tiempo el territorio de la música urbana. Empezó escribiendo canciones con 13 años y con apenas 15\, ya había publicado sus primeros temas en plataformas digitales. ‘Colors’\, ‘Turn around’. o ‘Money Talk’. son algunas de sus canciones. \n 
URL:https://dilemaindieclub.es/evento/d-guero/
LOCATION:DILEMA Indie Club\, Calle Capua\, 6\, Gijón\, Asturias\, 33202\, España
CATEGORIES:Conciertos
ATTACH;FMTTYPE=image/jpeg:https://dilemaindieclub.es/wp-content/uploads/2022/04/d-guero-1.jpg
END:VEVENT
BEGIN:VEVENT
DTSTART;TZID=UTC:20220429T210000
DTEND;TZID=UTC:20220429T223000
DTSTAMP:20260422T164536
CREATED:20220331T120029Z
LAST-MODIFIED:20220425T212109Z
UID:10000005-1651266000-1651271400@dilemaindieclub.es
SUMMARY:Dellastrada
DESCRIPTION:Dellastrada es una banda integrada por tres jóvenes músicos de Avilés y Corvera (Asturias). Se definen como un grupo de rock alternativo y ‘No fun’ es su primer trabajo autoproducido. En concierto no solo presentan sus temas propios\, también interpretan algunas versiones de canciones clásicas.
URL:https://dilemaindieclub.es/evento/concierto-dellastrada/
LOCATION:DILEMA Indie Club\, Calle Capua\, 6\, Gijón\, Asturias\, 33202\, España
CATEGORIES:Conciertos
ATTACH;FMTTYPE=image/png:https://dilemaindieclub.es/wp-content/uploads/2020/05/Dellastrada-Asturias.png
END:VEVENT
BEGIN:VEVENT
DTSTART;TZID=Europe/Madrid:20220428T210000
DTEND;TZID=Europe/Madrid:20220428T223000
DTSTAMP:20260422T164536
CREATED:20220404T142825Z
LAST-MODIFIED:20220426T151534Z
UID:10000004-1651179600-1651185000@dilemaindieclub.es
SUMMARY:Luis Fercán
DESCRIPTION:Luis Fercán pertenece a la nueva ola de cantautores españoles y es uno de los artistas emergentes más destacados del panorama nacional. Natural del Santiago de Compostela\, empezó a tocar la guitarra entre los 15 y los 16 años. Con su peculiar voz rasgada y sus letras maduras\, ha ganado diversos concursos musicales. En su concierto\, presentará su último álbum de estudio titulado ‘Canciones completas desde una casa vacía’. El trabajo ha sido editado por Universal Music. \nComprar entradas
URL:https://dilemaindieclub.es/evento/luis-fercan/
LOCATION:DILEMA Indie Club\, Calle Capua\, 6\, Gijón\, Asturias\, 33202\, España
CATEGORIES:Conciertos
ATTACH;FMTTYPE=image/jpeg:https://dilemaindieclub.es/wp-content/uploads/2022/04/luis-fercan-asturias.jpg
END:VEVENT
BEGIN:VEVENT
DTSTART;TZID=UTC:20220422T210000
DTEND;TZID=UTC:20220422T223000
DTSTAMP:20260422T164536
CREATED:20220331T115049Z
LAST-MODIFIED:20220401T131924Z
UID:10000006-1650661200-1650666600@dilemaindieclub.es
SUMMARY:Cuentos para Ana
DESCRIPTION:Esta joven de Avilés comenzó a escribir canciones con 12 años y tras pasar por varias bandas\, en 2017 decide poner en marcha su proyecto más personal ‘Cuentos para Ana’. Sus canciones se inspiran en historias cercanas y se mueven entre sonidos pop-rock.
URL:https://dilemaindieclub.es/evento/concierto-cuentos-para-ana/
LOCATION:DILEMA Indie Club\, Calle Capua\, 6\, Gijón\, Asturias\, 33202\, España
CATEGORIES:Conciertos
ATTACH;FMTTYPE=image/png:https://dilemaindieclub.es/wp-content/uploads/2022/04/cuentos-para-ana-asturias.png
END:VEVENT
BEGIN:VEVENT
DTSTART;TZID=UTC:20220416T233000
DTEND;TZID=UTC:20220417T033000
DTSTAMP:20260422T164536
CREATED:20220331T114549Z
LAST-MODIFIED:20220401T131913Z
UID:10000007-1650151800-1650166200@dilemaindieclub.es
SUMMARY:Nacho Wings
DESCRIPTION:Nacho Wings( Xixón 1997)\, empezó a pinchar en 2016 y desde entonces se deja caer por distintos bares de Asturies pinchando\, sobre todo\, indie y britpop. Coleccionista de discos precoz\, en sus sesiones pincha exclusivamente vinilos. De los 90 hasta el indie español actual pasando por el garaje y el britpop. Desde Pulp a Los Planetas\, desde Belle & Sebastian hasta los Smiths.
URL:https://dilemaindieclub.es/evento/nacho-wings/
LOCATION:DILEMA Indie Club\, Calle Capua\, 6\, Gijón\, Asturias\, 33202\, España
CATEGORIES:Pinchadas
ATTACH;FMTTYPE=image/png:https://dilemaindieclub.es/wp-content/uploads/2022/04/Nacho-Wings.png
END:VEVENT
BEGIN:VEVENT
DTSTART;TZID=UTC:20220415T210000
DTEND;TZID=UTC:20220415T223000
DTSTAMP:20260422T164536
CREATED:20220331T114031Z
LAST-MODIFIED:20220401T131859Z
UID:10000008-1650056400-1650061800@dilemaindieclub.es
SUMMARY:N. Marin
DESCRIPTION:Natural de Almería pero afincado desde hace tiempo en la ciudad de Gijón\, N.Marín es un artista que encuentra su vía de expresión en el hip-hop y en la música urbana. Sus canciones relatan la cotidianeidad y los pensamientos de su día día. En la actualidad\, prepara su primer trabajo de estudio. \nBuy Ticket
URL:https://dilemaindieclub.es/evento/concierto-n-marin/
LOCATION:DILEMA Indie Club\, Calle Capua\, 6\, Gijón\, Asturias\, 33202\, España
CATEGORIES:Conciertos
ATTACH;FMTTYPE=image/jpeg:https://dilemaindieclub.es/wp-content/uploads/2020/05/n-marin-asturias-rap.jpg
END:VEVENT
BEGIN:VEVENT
DTSTART;TZID=UTC:20220408T210000
DTEND;TZID=UTC:20220408T223000
DTSTAMP:20260422T164536
CREATED:20220331T113510Z
LAST-MODIFIED:20220401T131845Z
UID:10000009-1649451600-1649457000@dilemaindieclub.es
SUMMARY:Corrientes
DESCRIPTION:Corrientes DM es una banda de Luanco (Asturias) integrada por Samu\, Will\, Charly\, Michi y Benavas. Comenzaron grabando sus canciones en casa y ahora se preparan para grabar su primer álbum de estudio. Cuentan con más de 6.000 oyentes mensuales en Spotify. ‘Todo fue de verdad’\, ‘Atardecer’. ‘Tres otoños’ o ‘Diciembre’ son algunas de sus canciones. \nBuy Ticket
URL:https://dilemaindieclub.es/evento/concierto-corrientes-dm/
LOCATION:DILEMA Indie Club\, Calle Capua\, 6\, Gijón\, Asturias\, 33202\, España
CATEGORIES:Conciertos
ATTACH;FMTTYPE=image/png:https://dilemaindieclub.es/wp-content/uploads/2020/05/Corrientes-DM-Asturias.png
END:VEVENT
END:VCALENDAR